BEGIN:VCALENDAR
VERSION:2.0
PRODID:-//Squarespace Inc/Squarespace 6//v6//EN
BEGIN:VEVENT
UID:5b9c7e092b6a28f6642d2a67@squarespace.com
DTSTAMP:20200217T024724Z
DTSTART:20200228T213000Z
DTEND:20200229T033000Z
SUMMARY:Super charged Outlaw 71’s National Tour
END:VEVENT
END:VCALENDAR
