BEGIN:VCALENDAR
VERSION:2.0
PRODID:-//Squarespace Inc/Squarespace 6//v6//EN
BEGIN:VEVENT
UID:5b725e5cc2241b9b383eee32@squarespace.com
DTSTAMP:20201027T065050Z
DTSTART:20201120T213000Z
DTEND:20201121T033000Z
SUMMARY:Season Opener Street Outlaws\, Muscle Car/ Hotrod Drag Racing Chall
 enge
GEO:-41.123238;172.993891
LOCATION:Motueka Airfield\, New Zealand
END:VEVENT
END:VCALENDAR
