BEGIN:VCALENDAR
VERSION:2.0
PRODID:-//Squarespace Inc/Squarespace 6//v6//EN
BEGIN:VEVENT
UID:557feecde4b0badbfdf9a7c4@squarespace.com
DTSTAMP:20151212T025049Z
DTSTART:20160108T210000Z
DTEND:20160109T033000Z
SUMMARY:Muscle Car / Hot Rod Drags "N" Car Show
END:VEVENT
END:VCALENDAR
