BEGIN:VCALENDAR
VERSION:2.0
PRODID:-//Squarespace Inc/Squarespace 6//v6//EN
BEGIN:VEVENT
UID:5551c4c7e4b04fae16ff2a08@squarespace.com
DTSTAMP:20150512T093644Z
DTSTART:20150712T013000Z
DTEND:20150712T043000Z
SUMMARY:2015 NDRA AGM
END:VEVENT
END:VCALENDAR
