BEGIN:VCALENDAR
VERSION:2.0
PRODID:-//Squarespace Inc/Squarespace 6//v6//EN
BEGIN:VEVENT
UID:5405943ae4b00d99c7bfa7a9@squarespace.com
DTSTAMP:20150118T101449Z
DTSTART:20150130T213000Z
DTEND:20150131T033000Z
SUMMARY:NZDRA Series Summer Nationals
END:VEVENT
END:VCALENDAR
