BEGIN:VCALENDAR
VERSION:2.0
PRODID:-//Squarespace Inc/Squarespace 6//v6//EN
BEGIN:VEVENT
UID:539d209ce4b021927576b119@squarespace.com
DTSTAMP:20140615T042816Z
DTSTART:20140615T043000Z
DTEND:20140615T053000Z
SUMMARY:Another event
END:VEVENT
END:VCALENDAR
