BEGIN:VCALENDAR
VERSION:2.0
PRODID:-//Squarespace Inc/Squarespace 6//v6//EN
BEGIN:VEVENT
UID:54058ee9e4b04db10d1f65be@squarespace.com
DTSTAMP:20141117T085024Z
DTSTART:20141205T213000Z
DTEND:20141206T033000Z
SUMMARY:NZDRA Series Southern Nationals 
END:VEVENT
END:VCALENDAR
